-2.64194768987405E-06
-1.85713235934555E-06
-2.21490712968949E-06
2.21534068890011E-06
-117.108043843418
33.0198936897705
