-2.29685967042751E-06
-1.45147415914107E-06
-1.73185743336369E-06
1.92510027545307E-06
-117.147439158884
33.0590978507648
