-2.66061070218311E-06
-1.64644339456607E-06
-1.96456190727884E-06
2.22990699293312E-06
-117.149446273538
33.0623754644633
