-3.06373221648143E-06
-1.07619989736616E-06
-1.28410019481544E-06
2.56767863858305E-06
-117.152263797392
33.0644932105351
