-3.41454629309636E-06
7.32005973054774E-07
8.73739605070171E-07
2.86147836058169E-06
-117.154947974516
33.0648239390226
