-7.73697829628112E-07
2.84041621917906E-06
3.38948730154918E-06
6.48177913458274E-07
-117.158542075713
33.0676341917493
