2.49840965308816E-06
1.53400500976055E-06
1.83050855636655E-06
-2.09361134770958E-06
-117.153069192627
33.0687671210941
