2.42980311108124E-06
1.68751434061758E-06
2.0136304265539E-06
-2.03616258549179E-06
-117.1517525962
33.0667685348248
