1.83447948726059E-06
2.24031198496354E-06
2.67312917885944E-06
-1.53734678081212E-06
-117.149812090445
33.0637358399082
