7.71849937609372E-07
2.61739796482394E-06
3.12299852409217E-06
-6.46916030441741E-07
-117.14624045961
33.0610218474726
