3.06433994619594E-07
2.70216461387676E-06
3.22413262132151E-06
-2.56906935200402E-07
-117.143054945534
33.0600146544181
