-3.06052171348737E-07
2.60573494174642E-06
3.10910847066504E-06
2.56370382633243E-07
-117.139302415767
33.0595293197219
