-7.61122503759768E-07
2.48683014013537E-06
2.96728188360572E-06
6.37737155905406E-07
-117.135775324933
33.0596614480376
