-9.64654851515103E-07
2.48432613071451E-06
2.9643295773544E-06
8.08297190370394E-07
-117.132945045143
33.0600666637521
