-9.63193040406296E-07
2.59720380804636E-06
3.09903141873919E-06
8.07055398941774E-07
-117.130698017761
33.060511463504
