-1.02267094295873E-06
2.7118318813292E-06
3.23582750975799E-06
8.5688107109135E-07
-117.128355704045
33.0608762013059
