-1.05000241247909E-06
2.71960758345037E-06
3.24513150218309E-06
8.7977769790811E-07
-117.125891582146
33.0614886912088
