-1.04721980973438E-06
2.89021116450989E-06
3.44871280493312E-06
8.77421593385451E-07
-117.123743213771
33.0618117166991
