-1.04590384891258E-06
2.96334205771264E-06
3.53599363847747E-06
8.76304853948984E-07
-117.121471039677
33.0622808463116
