-1.07355600773262E-06
2.99976003808668E-06
3.57947250487942E-06
8.99466927645296E-07
-117.11910709455
33.0627707261716
