-1.07533036712497E-06
3.00696655041508E-06
3.58809535720632E-06
9.00946943032993E-07
-117.116762656794
33.0633465557933
