-9.5239291590787E-07
3.04273706136407E-06
3.6307877798093E-06
7.97919793596138E-07
-117.114690308631
33.0639542665172
