-8.92758630106004E-07
3.05447886981553E-06
3.64481370600237E-06
7.47942766289435E-07
-117.112456272028
33.0644972257761
