-6.97827917781885E-07
3.08338726832678E-06
3.67930918456434E-06
5.84593110855131E-07
-117.110506020931
33.0650759848667
