-5.8345878829722E-07
2.98157744499664E-06
3.55783588118984E-06
4.88766235705407E-07
-117.108219415445
33.0657198022177
