-5.4929781951445E-07
2.85307236089849E-06
3.40451297473049E-06
4.60152442335606E-07
-117.105695934794
33.0662933545211
