-5.565702596733E-07
2.90813496917648E-06
3.47022657364376E-06
4.662392667706E-07
-117.10334758469
33.0664915880244
