-4.83800863608813E-07
2.7913352934597E-06
3.33086657555E-06
4.05272686367906E-07
-117.100848630817
33.0670840517198
