-4.83595344190565E-07
2.76761301335451E-06
3.30257197133354E-06
4.0510133948061E-07
-117.098391291038
33.0674275574401
