-5.03638454149823E-07
2.78608458373888E-06
3.32462592240955E-06
4.21892941762079E-07
-117.095973908761
33.0676898904357
