-4.85489329926842E-07
2.82376817472144E-06
3.36960086054843E-06
4.06680217184951E-07
-117.093683550163
33.0679299658698
