-5.17473482730679E-07
2.86262932501526E-06
3.4159838122553E-06
4.33475598295777E-07
-117.091327676734
33.0681004198561
