-4.59236510760706E-07
2.96616019612728E-06
3.5395268816388E-06
3.84665812780275E-07
-117.089248940871
33.0682473504785
