-5.60309834323242E-07
2.96034700994339E-06
3.53260858781275E-06
4.69356635818361E-07
-117.086710120234
33.0684340837869
