-5.17320051973301E-07
2.92939546925428E-06
3.49568541177952E-06
4.33336159576596E-07
-117.084394010783
33.0688428237027
