-4.11856933068721E-07
2.98015537599023E-06
3.55625800132798E-06
3.44960634536905E-07
-117.082310252535
33.0691321450025
