1.99312069188177E-08
2.97833591189817E-06
3.55406906460799E-06
-1.68383519213658E-08
-117.080737820417
33.0697554581801
