8.88053003562611E-07
2.92520334480748E-06
3.49063441874179E-06
-7.44230022126643E-07
-117.079904423679
33.070614538514
