1.68209959202851E-06
2.67744955827818E-06
3.19498586756503E-06
-1.40954133254212E-06
-117.078786173977
33.0712926584243
