2.37238008024018E-06
2.36681816153875E-06
2.82432330903682E-06
-1.98792193276396E-06
-117.077610023537
33.0715625162007
