2.88289283948398E-06
1.9640888490261E-06
2.34377549454724E-06
-2.41570079453734E-06
-117.076265658745
33.0714453060229
