3.32592979621899E-06
1.41465639172145E-06
1.68819463064397E-06
-2.78697246216139E-06
-117.074941772984
33.0712433534233
