3.6187342948701E-06
8.06857792543992E-07
9.62977545449784E-07
-3.032397087883E-06
-117.073657644333
33.0707916791037
