3.73786063075356E-06
1.29971000153361E-07
1.55323512128775E-07
-3.13232445513193E-06
-117.072477010134
33.0700849642727
