3.71759023029209E-06
-3.81968275847007E-07
-4.5551712668772E-07
-3.115447464068E-06
-117.07174341019
33.0689136083528
