3.65431443705545E-06
-6.65368381919594E-07
-7.93659579216038E-07
-3.06251702573289E-06
-117.071628434145
33.0673080968862
