3.61630066418521E-06
-7.85301958215964E-07
-9.36745162073161E-07
-3.03074257428085E-06
-117.071964366746
33.0654103783289
