3.58294764120627E-06
-9.12690608598659E-07
-1.08871947638097E-06
-3.00287240448312E-06
-117.072396640968
33.0635645982843
